BEGIN:VCALENDAR
VERSION:2.0
PRODID:-//Hansagård Camping &amp; Resort - ECPv6.15.20//NONSGML v1.0//EN
CALSCALE:GREGORIAN
METHOD:PUBLISH
X-WR-CALNAME:Hansagård Camping &amp; Resort
X-ORIGINAL-URL:https://www.hansagard-camping.se
X-WR-CALDESC:Händelser för Hansagård Camping &amp; Resort
REFRESH-INTERVAL;VALUE=DURATION:PT1H
X-Robots-Tag:noindex
X-PUBLISHED-TTL:PT1H
BEGIN:VTIMEZONE
TZID:Europe/Stockholm
BEGIN:DAYLIGHT
TZOFFSETFROM:+0100
TZOFFSETTO:+0200
TZNAME:CEST
DTSTART:20240331T010000
END:DAYLIGHT
BEGIN:STANDARD
TZOFFSETFROM:+0200
TZOFFSETTO:+0100
TZNAME:CET
DTSTART:20241027T010000
END:STANDARD
BEGIN:DAYLIGHT
TZOFFSETFROM:+0100
TZOFFSETTO:+0200
TZNAME:CEST
DTSTART:20250330T010000
END:DAYLIGHT
BEGIN:STANDARD
TZOFFSETFROM:+0200
TZOFFSETTO:+0100
TZNAME:CET
DTSTART:20251026T010000
END:STANDARD
BEGIN:DAYLIGHT
TZOFFSETFROM:+0100
TZOFFSETTO:+0200
TZNAME:CEST
DTSTART:20260329T010000
END:DAYLIGHT
BEGIN:STANDARD
TZOFFSETFROM:+0200
TZOFFSETTO:+0100
TZNAME:CET
DTSTART:20261025T010000
END:STANDARD
END:VTIMEZONE
BEGIN:VEVENT
DTSTART;TZID=Europe/Stockholm:20250708T090000
DTEND;TZID=Europe/Stockholm:20250708T100000
DTSTAMP:20260421T164257
CREATED:20250604T124934Z
LAST-MODIFIED:20250604T125105Z
UID:10000400-1751965200-1751968800@www.hansagard-camping.se
SUMMARY:Sommarlovsmorgon
DESCRIPTION:Den bästa starten på dagen! Vi samlas i lekrummet och ser på sommarlovsmorgon tillsammans.
URL:https://www.hansagard-camping.se/event/sommarlovsmorgon-2/2025-07-08/
LOCATION:Hansagård Camping & Resort\, Hansagårdsvägen 11\, Falkenberg\, 311 43\, Sverige
ATTACH;FMTTYPE=image/jpeg:https://www.hansagard-camping.se/wp-content/uploads/2019/11/trollerishow-2s.jpg
ORGANIZER;CN="Hansag%C3%A5rd Camping & Resort":MAILTO:info@hansagard-camping.se
END:VEVENT
BEGIN:VEVENT
DTSTART;TZID=Europe/Stockholm:20250708T100000
DTEND;TZID=Europe/Stockholm:20250708T120000
DTSTAMP:20260421T164257
CREATED:20250604T125329Z
LAST-MODIFIED:20250604T125408Z
UID:10000433-1751968800-1751976000@www.hansagard-camping.se
SUMMARY:Barnklubb
DESCRIPTION:Massor av skoj och bus för er mellan 4-12 år! Det är olika aktiviteter varje dag som exempelvis sandslottsbygge\, brännboll\, poängpromenad och pyssel. Alltid lugnt och tryggt tillsammans med vår erfarna barnklubbspersonal. Samling i lekrummet
URL:https://www.hansagard-camping.se/event/barnklubb-4-2/2025-07-08/
LOCATION:Hansagård Camping & Resort\, Hansagårdsvägen 11\, Falkenberg\, 311 43\, Sverige
CATEGORIES:På området
ATTACH;FMTTYPE=image/jpeg:https://www.hansagard-camping.se/wp-content/uploads/2019/05/36315733_2227163830643740_4355002666691067904_o.jpg
ORGANIZER;CN="Hansag%C3%A5rd Camping & Resort":MAILTO:info@hansagard-camping.se
END:VEVENT
BEGIN:VEVENT
DTSTART;TZID=Europe/Stockholm:20250708T130000
DTEND;TZID=Europe/Stockholm:20250708T150000
DTSTAMP:20260421T164257
CREATED:20250604T130046Z
LAST-MODIFIED:20250604T130109Z
UID:10000471-1751979600-1751986800@www.hansagard-camping.se
SUMMARY:Aktivitetsklubb
DESCRIPTION:Aktivitetsklubben\nAktiviteter för barn i alla åldrar med eller utan föräldrar.\nBrännboll\, lekar\, BINGO\, tipspromenad\, sandslottstävling osv. \nPlats: Samling lekrummet
URL:https://www.hansagard-camping.se/event/aktivitetsklubb-2-2/2025-07-08/
LOCATION:Hansagård Camping & Resort\, Hansagårdsvägen 11\, Falkenberg\, 311 43\, Sverige
CATEGORIES:På området
ATTACH;FMTTYPE=image/jpeg:https://www.hansagard-camping.se/wp-content/uploads/2019/01/minigolf-1.jpg
ORGANIZER;CN="Hansag%C3%A5rd Camping & Resort":MAILTO:info@hansagard-camping.se
END:VEVENT
BEGIN:VEVENT
DTSTART;TZID=Europe/Stockholm:20250708T190000
DTEND;TZID=Europe/Stockholm:20250708T210000
DTSTAMP:20260421T164257
CREATED:20210705T092215Z
LAST-MODIFIED:20250624T113800Z
UID:10000529-1752001200-1752008400@www.hansagard-camping.se
SUMMARY:Quiz
DESCRIPTION:Välkomna på Quiz på Hansas Bodega. Det blir god mat\, skön stämning och kluriga frågor!\nGlöm inte att boka bord om ni önskar äta på Bodegan under quizet. Det går bra att ta med sig egna stolar eller filt.
URL:https://www.hansagard-camping.se/event/quiz/2025-07-08/
LOCATION:Hansagård Camping & Resort\, Hansagårdsvägen 11\, Falkenberg\, 311 43\, Sverige
ATTACH;FMTTYPE=image/jpeg:https://www.hansagard-camping.se/wp-content/uploads/2019/01/ata.jpg
ORGANIZER;CN="Hansag%C3%A5rd Camping & Resort":MAILTO:info@hansagard-camping.se
END:VEVENT
BEGIN:VEVENT
DTSTART;TZID=Europe/Stockholm:20250709T090000
DTEND;TZID=Europe/Stockholm:20250709T100000
DTSTAMP:20260421T164257
CREATED:20250604T124934Z
LAST-MODIFIED:20250604T125105Z
UID:10000401-1752051600-1752055200@www.hansagard-camping.se
SUMMARY:Sommarlovsmorgon
DESCRIPTION:Den bästa starten på dagen! Vi samlas i lekrummet och ser på sommarlovsmorgon tillsammans.
URL:https://www.hansagard-camping.se/event/sommarlovsmorgon-2/2025-07-09/
LOCATION:Hansagård Camping & Resort\, Hansagårdsvägen 11\, Falkenberg\, 311 43\, Sverige
ATTACH;FMTTYPE=image/jpeg:https://www.hansagard-camping.se/wp-content/uploads/2019/11/trollerishow-2s.jpg
ORGANIZER;CN="Hansag%C3%A5rd Camping & Resort":MAILTO:info@hansagard-camping.se
END:VEVENT
BEGIN:VEVENT
DTSTART;TZID=Europe/Stockholm:20250709T100000
DTEND;TZID=Europe/Stockholm:20250709T120000
DTSTAMP:20260421T164257
CREATED:20250604T125329Z
LAST-MODIFIED:20250604T125408Z
UID:10000434-1752055200-1752062400@www.hansagard-camping.se
SUMMARY:Barnklubb
DESCRIPTION:Massor av skoj och bus för er mellan 4-12 år! Det är olika aktiviteter varje dag som exempelvis sandslottsbygge\, brännboll\, poängpromenad och pyssel. Alltid lugnt och tryggt tillsammans med vår erfarna barnklubbspersonal. Samling i lekrummet
URL:https://www.hansagard-camping.se/event/barnklubb-4-2/2025-07-09/
LOCATION:Hansagård Camping & Resort\, Hansagårdsvägen 11\, Falkenberg\, 311 43\, Sverige
CATEGORIES:På området
ATTACH;FMTTYPE=image/jpeg:https://www.hansagard-camping.se/wp-content/uploads/2019/05/36315733_2227163830643740_4355002666691067904_o.jpg
ORGANIZER;CN="Hansag%C3%A5rd Camping & Resort":MAILTO:info@hansagard-camping.se
END:VEVENT
BEGIN:VEVENT
DTSTART;TZID=Europe/Stockholm:20250709T130000
DTEND;TZID=Europe/Stockholm:20250709T150000
DTSTAMP:20260421T164257
CREATED:20250604T130046Z
LAST-MODIFIED:20250604T130109Z
UID:10000472-1752066000-1752073200@www.hansagard-camping.se
SUMMARY:Aktivitetsklubb
DESCRIPTION:Aktivitetsklubben\nAktiviteter för barn i alla åldrar med eller utan föräldrar.\nBrännboll\, lekar\, BINGO\, tipspromenad\, sandslottstävling osv. \nPlats: Samling lekrummet
URL:https://www.hansagard-camping.se/event/aktivitetsklubb-2-2/2025-07-09/
LOCATION:Hansagård Camping & Resort\, Hansagårdsvägen 11\, Falkenberg\, 311 43\, Sverige
CATEGORIES:På området
ATTACH;FMTTYPE=image/jpeg:https://www.hansagard-camping.se/wp-content/uploads/2019/01/minigolf-1.jpg
ORGANIZER;CN="Hansag%C3%A5rd Camping & Resort":MAILTO:info@hansagard-camping.se
END:VEVENT
BEGIN:VEVENT
DTSTART;TZID=Europe/Stockholm:20250710T090000
DTEND;TZID=Europe/Stockholm:20250710T100000
DTSTAMP:20260421T164257
CREATED:20250604T124934Z
LAST-MODIFIED:20250604T125105Z
UID:10000402-1752138000-1752141600@www.hansagard-camping.se
SUMMARY:Sommarlovsmorgon
DESCRIPTION:Den bästa starten på dagen! Vi samlas i lekrummet och ser på sommarlovsmorgon tillsammans.
URL:https://www.hansagard-camping.se/event/sommarlovsmorgon-2/2025-07-10/
LOCATION:Hansagård Camping & Resort\, Hansagårdsvägen 11\, Falkenberg\, 311 43\, Sverige
ATTACH;FMTTYPE=image/jpeg:https://www.hansagard-camping.se/wp-content/uploads/2019/11/trollerishow-2s.jpg
ORGANIZER;CN="Hansag%C3%A5rd Camping & Resort":MAILTO:info@hansagard-camping.se
END:VEVENT
BEGIN:VEVENT
DTSTART;TZID=Europe/Stockholm:20250710T100000
DTEND;TZID=Europe/Stockholm:20250710T120000
DTSTAMP:20260421T164257
CREATED:20250604T125553Z
LAST-MODIFIED:20250604T125629Z
UID:10000452-1752141600-1752148800@www.hansagard-camping.se
SUMMARY:Barnklubb TEMA
DESCRIPTION:Massa skoj och bus – bara för oss mellan 4 – 12 år! Torsdagar: Temapyssel. Hela dagen har aktiviteterna ett speciellt tema. Kanske blir vi pirater som letar skatt? Eller detektiver som löser det stora Hansagård-mysteriet! Vilket det än blir börjar vi med att pyssla allt vi behöver inför dagen i lekrummet. Alltid med vår trygga och erfarna barnklubbspersonal.
URL:https://www.hansagard-camping.se/event/barnklubb-tema-2/2025-07-10/
LOCATION:Hansagård Camping & Resort\, Hansagårdsvägen 11\, Falkenberg\, 311 43\, Sverige
ATTACH;FMTTYPE=image/jpeg:https://www.hansagard-camping.se/wp-content/uploads/2019/11/tabatastrand-55s.jpg
ORGANIZER;CN="Hansag%C3%A5rd Camping & Resort":MAILTO:info@hansagard-camping.se
END:VEVENT
BEGIN:VEVENT
DTSTART;TZID=Europe/Stockholm:20250710T130000
DTEND;TZID=Europe/Stockholm:20250710T150000
DTSTAMP:20260421T164257
CREATED:20250604T125832Z
LAST-MODIFIED:20250604T125857Z
UID:10000458-1752152400-1752159600@www.hansagard-camping.se
SUMMARY:Aktivitetsklubb TEMA
DESCRIPTION:Barnklubbens temadag fortsätter med lekar och stoj. Vi kanske ger oss ut på skattjakt eller blir superhjältar som räddar hela Hansagård! Alltid tillsammans med vår trygga och erfarna barnklubbspersonal. Vi utgår från lekrummet.
URL:https://www.hansagard-camping.se/event/aktivitetsklubben-tema-2/2025-07-10/
LOCATION:Hansagård Camping & Resort\, Hansagårdsvägen 11\, Falkenberg\, 311 43\, Sverige
ATTACH;FMTTYPE=image/jpeg:https://www.hansagard-camping.se/wp-content/uploads/2019/01/studsmatta2.jpg
ORGANIZER;CN="Hansag%C3%A5rd Camping & Resort":MAILTO:info@hansagard-camping.se
END:VEVENT
BEGIN:VEVENT
DTSTART;TZID=Europe/Stockholm:20250710T170000
DTEND;TZID=Europe/Stockholm:20250710T190000
DTSTAMP:20260421T164257
CREATED:20250604T132026Z
LAST-MODIFIED:20250731T061304Z
UID:10000493-1752166800-1752174000@www.hansagard-camping.se
SUMMARY:Movie Night Kidz
DESCRIPTION:Torsdagsmys i lekrummet med barntillåten film! Vi bjuder på popcorn och saft. Alltid tillsammans med vår trygga barnklubbspersonal.
URL:https://www.hansagard-camping.se/event/movie-night-kidz-2-2/2025-07-10/
LOCATION:Hansagård Camping & Resort\, Hansagårdsvägen 11\, Falkenberg\, 311 43\, Sverige
ATTACH;FMTTYPE=image/png:https://www.hansagard-camping.se/wp-content/uploads/2019/05/Skärmavbild-2019-07-23-kl.-11.10.26.png
ORGANIZER;CN="Hansag%C3%A5rd Camping & Resort":MAILTO:info@hansagard-camping.se
END:VEVENT
BEGIN:VEVENT
DTSTART;TZID=Europe/Stockholm:20250710T190000
DTEND;TZID=Europe/Stockholm:20250710T210000
DTSTAMP:20260421T164257
CREATED:20240716T125704Z
LAST-MODIFIED:20250731T061349Z
UID:10000502-1752174000-1752181200@www.hansagard-camping.se
SUMMARY:Movie Night Family
DESCRIPTION:Mysig filmkväll för barn i alla åldrar i lekrummet! Vi bjuder på popcorn och saft. Alltid tillsammans med vår trygga barnklubbspersonal.
URL:https://www.hansagard-camping.se/event/movie-night-family-2/2025-07-10/
LOCATION:Hansagård Camping & Resort\, Hansagårdsvägen 11\, Falkenberg\, 311 43\, Sverige
ATTACH;FMTTYPE=image/jpeg:https://www.hansagard-camping.se/wp-content/uploads/2019/11/filmkvall-13s.jpg
ORGANIZER;CN="Hansag%C3%A5rd Camping & Resort":MAILTO:info@hansagard-camping.se
END:VEVENT
BEGIN:VEVENT
DTSTART;TZID=Europe/Stockholm:20250710T210000
DTEND;TZID=Europe/Stockholm:20250710T230000
DTSTAMP:20260421T164257
CREATED:20200616T115612Z
LAST-MODIFIED:20250731T061437Z
UID:10000509-1752181200-1752188400@www.hansagard-camping.se
SUMMARY:Movie Night Teens
DESCRIPTION:Kvällen avslutas med filmkväll i lekrummet för våra tonåringar med en åldersgräns på 11 år! Vi bjuder på popcorn och saft. Alltid tillsammans med vår trygga barnklubbspersonal.
URL:https://www.hansagard-camping.se/event/movie-night-teens/2025-07-10/
LOCATION:Hansagård Camping & Resort\, Hansagårdsvägen 11\, Falkenberg\, 311 43\, Sverige
ATTACH;FMTTYPE=image/jpeg:https://www.hansagard-camping.se/wp-content/uploads/2019/11/filmkvall-8s.jpg
ORGANIZER;CN="Hansag%C3%A5rd Camping & Resort":MAILTO:info@hansagard-camping.se
END:VEVENT
BEGIN:VEVENT
DTSTART;TZID=Europe/Stockholm:20250711T090000
DTEND;TZID=Europe/Stockholm:20250711T100000
DTSTAMP:20260421T164257
CREATED:20250604T124934Z
LAST-MODIFIED:20250604T125105Z
UID:10000403-1752224400-1752228000@www.hansagard-camping.se
SUMMARY:Sommarlovsmorgon
DESCRIPTION:Den bästa starten på dagen! Vi samlas i lekrummet och ser på sommarlovsmorgon tillsammans.
URL:https://www.hansagard-camping.se/event/sommarlovsmorgon-2/2025-07-11/
LOCATION:Hansagård Camping & Resort\, Hansagårdsvägen 11\, Falkenberg\, 311 43\, Sverige
ATTACH;FMTTYPE=image/jpeg:https://www.hansagard-camping.se/wp-content/uploads/2019/11/trollerishow-2s.jpg
ORGANIZER;CN="Hansag%C3%A5rd Camping & Resort":MAILTO:info@hansagard-camping.se
END:VEVENT
BEGIN:VEVENT
DTSTART;TZID=Europe/Stockholm:20250711T100000
DTEND;TZID=Europe/Stockholm:20250711T110000
DTSTAMP:20260421T164257
CREATED:20250604T135216Z
LAST-MODIFIED:20250604T135246Z
UID:10000191-1752228000-1752231600@www.hansagard-camping.se
SUMMARY:Tabata
DESCRIPTION:Maximal träning på kort tid. Allt i ett. Styrka\, stabilitet\, kondition och balans.\nEfter en rak\, enkel uppvärmning jobbar vi med olika Tabataintervaller. En intervall är 4 minuter där vi jobbar 20 sek och vilar i 10. Ibland är syftet att stabilisera och hitta styrkan och ibland jobbar vi explosivt med hög puls. Övningarna är raka och enkla och det är lätt att anpassa till en nivå som passar just dig. \nVi jobbar med olika redskap och försöker få ut det mesta av varje 20 sekundersintervall. Du jobbar en övning i taget och kör i ditt eget tempo – du behöver inte jobba i takt till musiken. Självklart kan du anpassa träningen efter din dagsform\, men förvänta dig drivande musik\, maximal pepp och power! Perfekt för dig som vill få ut maximalt resultat av din träning! \nFörsta gången? Med eller utan vikter- du väljer. Med eller utan hopp- du väljer. Gör det som passar dig. \nPlats: Fotbollsplanen nedanför campingen
URL:https://www.hansagard-camping.se/event/tabata-2-2/2025-07-11/
LOCATION:Hansagård Camping & Resort\, Hansagårdsvägen 11\, Falkenberg\, 311 43\, Sverige
ATTACH;FMTTYPE=image/jpeg:https://www.hansagard-camping.se/wp-content/uploads/2019/05/tabatastrand-30-förminskad.jpg
ORGANIZER;CN="Hansag%C3%A5rd Camping & Resort":MAILTO:info@hansagard-camping.se
END:VEVENT
BEGIN:VEVENT
DTSTART;TZID=Europe/Stockholm:20250711T100000
DTEND;TZID=Europe/Stockholm:20250711T120000
DTSTAMP:20260421T164257
CREATED:20250604T125329Z
LAST-MODIFIED:20250604T125408Z
UID:10000435-1752228000-1752235200@www.hansagard-camping.se
SUMMARY:Barnklubb
DESCRIPTION:Massor av skoj och bus för er mellan 4-12 år! Det är olika aktiviteter varje dag som exempelvis sandslottsbygge\, brännboll\, poängpromenad och pyssel. Alltid lugnt och tryggt tillsammans med vår erfarna barnklubbspersonal. Samling i lekrummet
URL:https://www.hansagard-camping.se/event/barnklubb-4-2/2025-07-11/
LOCATION:Hansagård Camping & Resort\, Hansagårdsvägen 11\, Falkenberg\, 311 43\, Sverige
CATEGORIES:På området
ATTACH;FMTTYPE=image/jpeg:https://www.hansagard-camping.se/wp-content/uploads/2019/05/36315733_2227163830643740_4355002666691067904_o.jpg
ORGANIZER;CN="Hansag%C3%A5rd Camping & Resort":MAILTO:info@hansagard-camping.se
END:VEVENT
BEGIN:VEVENT
DTSTART;TZID=Europe/Stockholm:20250711T130000
DTEND;TZID=Europe/Stockholm:20250711T150000
DTSTAMP:20260421T164257
CREATED:20250604T130046Z
LAST-MODIFIED:20250604T130109Z
UID:10000473-1752238800-1752246000@www.hansagard-camping.se
SUMMARY:Aktivitetsklubb
DESCRIPTION:Aktivitetsklubben\nAktiviteter för barn i alla åldrar med eller utan föräldrar.\nBrännboll\, lekar\, BINGO\, tipspromenad\, sandslottstävling osv. \nPlats: Samling lekrummet
URL:https://www.hansagard-camping.se/event/aktivitetsklubb-2-2/2025-07-11/
LOCATION:Hansagård Camping & Resort\, Hansagårdsvägen 11\, Falkenberg\, 311 43\, Sverige
CATEGORIES:På området
ATTACH;FMTTYPE=image/jpeg:https://www.hansagard-camping.se/wp-content/uploads/2019/01/minigolf-1.jpg
ORGANIZER;CN="Hansag%C3%A5rd Camping & Resort":MAILTO:info@hansagard-camping.se
END:VEVENT
BEGIN:VEVENT
DTSTART;TZID=Europe/Stockholm:20250711T190000
DTEND;TZID=Europe/Stockholm:20250711T210000
DTSTAMP:20260421T164257
CREATED:20210705T092215Z
LAST-MODIFIED:20250624T113800Z
UID:10000530-1752260400-1752267600@www.hansagard-camping.se
SUMMARY:Quiz
DESCRIPTION:Välkomna på Quiz på Hansas Bodega. Det blir god mat\, skön stämning och kluriga frågor!\nGlöm inte att boka bord om ni önskar äta på Bodegan under quizet. Det går bra att ta med sig egna stolar eller filt.
URL:https://www.hansagard-camping.se/event/quiz/2025-07-11/
LOCATION:Hansagård Camping & Resort\, Hansagårdsvägen 11\, Falkenberg\, 311 43\, Sverige
ATTACH;FMTTYPE=image/jpeg:https://www.hansagard-camping.se/wp-content/uploads/2019/01/ata.jpg
ORGANIZER;CN="Hansag%C3%A5rd Camping & Resort":MAILTO:info@hansagard-camping.se
END:VEVENT
BEGIN:VEVENT
DTSTART;TZID=Europe/Stockholm:20250712T190000
DTEND;TZID=Europe/Stockholm:20250712T200000
DTSTAMP:20260421T164257
CREATED:20250604T135404Z
LAST-MODIFIED:20250604T135429Z
UID:10000319-1752346800-1752350400@www.hansagard-camping.se
SUMMARY:Trollerishow!
DESCRIPTION:Var beredda att bevittna sagolik magi när trollkarlen Fredrik besöker oss i sommar! Med sitt fantastiska trolleri\, stor glimt i ögat och med ett tilltal till både små och stora människor får han oss att kikna av skratt. \n 
URL:https://www.hansagard-camping.se/event/sagolik-magi-2-2/2025-07-12/
LOCATION:Hansagård Camping & Resort\, Hansagårdsvägen 11\, Falkenberg\, 311 43\, Sverige
ATTACH;FMTTYPE=image/jpeg:https://www.hansagard-camping.se/wp-content/uploads/2019/11/trollerishow-21s.jpg
ORGANIZER;CN="Hansag%C3%A5rd Camping & Resort":MAILTO:info@hansagard-camping.se
END:VEVENT
BEGIN:VEVENT
DTSTART;TZID=Europe/Stockholm:20250714T090000
DTEND;TZID=Europe/Stockholm:20250714T100000
DTSTAMP:20260421T164257
CREATED:20250604T132252Z
LAST-MODIFIED:20250604T132330Z
UID:10000498-1752483600-1752487200@www.hansagard-camping.se
SUMMARY:Sommaryoga
DESCRIPTION:Härlig sommaryoga med Magnus! Börja dagen med ett underbart yogapass vid havet. Passar både nybörjare och proffs. Ta med egen handduk eller yogamatta och en vattenflaska. Passet äger rum på fotbollsplanen nedanför campingen.
URL:https://www.hansagard-camping.se/event/sommaryoga-3-2/2025-07-14/
LOCATION:Hansagård Camping & Resort\, Hansagårdsvägen 11\, Falkenberg\, 311 43\, Sverige
ATTACH;FMTTYPE=image/jpeg:https://www.hansagard-camping.se/wp-content/uploads/2019/11/yoga-14s.jpg
ORGANIZER;CN="Hansag%C3%A5rd Camping & Resort":MAILTO:info@hansagard-camping.se
END:VEVENT
BEGIN:VEVENT
DTSTART;TZID=Europe/Stockholm:20250714T090000
DTEND;TZID=Europe/Stockholm:20250714T100000
DTSTAMP:20260421T164257
CREATED:20250604T124934Z
LAST-MODIFIED:20250604T125105Z
UID:10000404-1752483600-1752487200@www.hansagard-camping.se
SUMMARY:Sommarlovsmorgon
DESCRIPTION:Den bästa starten på dagen! Vi samlas i lekrummet och ser på sommarlovsmorgon tillsammans.
URL:https://www.hansagard-camping.se/event/sommarlovsmorgon-2/2025-07-14/
LOCATION:Hansagård Camping & Resort\, Hansagårdsvägen 11\, Falkenberg\, 311 43\, Sverige
ATTACH;FMTTYPE=image/jpeg:https://www.hansagard-camping.se/wp-content/uploads/2019/11/trollerishow-2s.jpg
ORGANIZER;CN="Hansag%C3%A5rd Camping & Resort":MAILTO:info@hansagard-camping.se
END:VEVENT
BEGIN:VEVENT
DTSTART;TZID=Europe/Stockholm:20250714T100000
DTEND;TZID=Europe/Stockholm:20250714T120000
DTSTAMP:20260421T164257
CREATED:20250604T125329Z
LAST-MODIFIED:20250604T125408Z
UID:10000436-1752487200-1752494400@www.hansagard-camping.se
SUMMARY:Barnklubb
DESCRIPTION:Massor av skoj och bus för er mellan 4-12 år! Det är olika aktiviteter varje dag som exempelvis sandslottsbygge\, brännboll\, poängpromenad och pyssel. Alltid lugnt och tryggt tillsammans med vår erfarna barnklubbspersonal. Samling i lekrummet
URL:https://www.hansagard-camping.se/event/barnklubb-4-2/2025-07-14/
LOCATION:Hansagård Camping & Resort\, Hansagårdsvägen 11\, Falkenberg\, 311 43\, Sverige
CATEGORIES:På området
ATTACH;FMTTYPE=image/jpeg:https://www.hansagard-camping.se/wp-content/uploads/2019/05/36315733_2227163830643740_4355002666691067904_o.jpg
ORGANIZER;CN="Hansag%C3%A5rd Camping & Resort":MAILTO:info@hansagard-camping.se
END:VEVENT
BEGIN:VEVENT
DTSTART;TZID=Europe/Stockholm:20250714T130000
DTEND;TZID=Europe/Stockholm:20250714T150000
DTSTAMP:20260421T164257
CREATED:20250604T130046Z
LAST-MODIFIED:20250604T130109Z
UID:10000474-1752498000-1752505200@www.hansagard-camping.se
SUMMARY:Aktivitetsklubb
DESCRIPTION:Aktivitetsklubben\nAktiviteter för barn i alla åldrar med eller utan föräldrar.\nBrännboll\, lekar\, BINGO\, tipspromenad\, sandslottstävling osv. \nPlats: Samling lekrummet
URL:https://www.hansagard-camping.se/event/aktivitetsklubb-2-2/2025-07-14/
LOCATION:Hansagård Camping & Resort\, Hansagårdsvägen 11\, Falkenberg\, 311 43\, Sverige
CATEGORIES:På området
ATTACH;FMTTYPE=image/jpeg:https://www.hansagard-camping.se/wp-content/uploads/2019/01/minigolf-1.jpg
ORGANIZER;CN="Hansag%C3%A5rd Camping & Resort":MAILTO:info@hansagard-camping.se
END:VEVENT
BEGIN:VEVENT
DTSTART;TZID=Europe/Stockholm:20250714T160000
DTEND;TZID=Europe/Stockholm:20250714T170000
DTSTAMP:20260421T164257
CREATED:20250604T133249Z
LAST-MODIFIED:20250604T133309Z
UID:10000514-1752508800-1752512400@www.hansagard-camping.se
SUMMARY:Cirkusskola
DESCRIPTION:Cirkusskola med Magnus! Testa på akrobatik\, mänskliga pyramider och enklare cirkuskonster. Vi samlas på fotbollsplanen nedanför campingen. Vid ösregn samlas vi istället i lekrummet.
URL:https://www.hansagard-camping.se/event/cirkusskola-2-2/2025-07-14/
LOCATION:Hansagård Camping & Resort\, Hansagårdsvägen 11\, Falkenberg\, 311 43\, Sverige
ATTACH;FMTTYPE=image/jpeg:https://www.hansagard-camping.se/wp-content/uploads/2019/05/36315733_2227163830643740_4355002666691067904_o.jpg
ORGANIZER;CN="Hansag%C3%A5rd Camping & Resort":MAILTO:info@hansagard-camping.se
END:VEVENT
BEGIN:VEVENT
DTSTART;TZID=Europe/Stockholm:20250715T090000
DTEND;TZID=Europe/Stockholm:20250715T100000
DTSTAMP:20260421T164257
CREATED:20250604T124934Z
LAST-MODIFIED:20250604T125105Z
UID:10000405-1752570000-1752573600@www.hansagard-camping.se
SUMMARY:Sommarlovsmorgon
DESCRIPTION:Den bästa starten på dagen! Vi samlas i lekrummet och ser på sommarlovsmorgon tillsammans.
URL:https://www.hansagard-camping.se/event/sommarlovsmorgon-2/2025-07-15/
LOCATION:Hansagård Camping & Resort\, Hansagårdsvägen 11\, Falkenberg\, 311 43\, Sverige
ATTACH;FMTTYPE=image/jpeg:https://www.hansagard-camping.se/wp-content/uploads/2019/11/trollerishow-2s.jpg
ORGANIZER;CN="Hansag%C3%A5rd Camping & Resort":MAILTO:info@hansagard-camping.se
END:VEVENT
BEGIN:VEVENT
DTSTART;TZID=Europe/Stockholm:20250715T100000
DTEND;TZID=Europe/Stockholm:20250715T120000
DTSTAMP:20260421T164257
CREATED:20250604T125329Z
LAST-MODIFIED:20250604T125408Z
UID:10000437-1752573600-1752580800@www.hansagard-camping.se
SUMMARY:Barnklubb
DESCRIPTION:Massor av skoj och bus för er mellan 4-12 år! Det är olika aktiviteter varje dag som exempelvis sandslottsbygge\, brännboll\, poängpromenad och pyssel. Alltid lugnt och tryggt tillsammans med vår erfarna barnklubbspersonal. Samling i lekrummet
URL:https://www.hansagard-camping.se/event/barnklubb-4-2/2025-07-15/
LOCATION:Hansagård Camping & Resort\, Hansagårdsvägen 11\, Falkenberg\, 311 43\, Sverige
CATEGORIES:På området
ATTACH;FMTTYPE=image/jpeg:https://www.hansagard-camping.se/wp-content/uploads/2019/05/36315733_2227163830643740_4355002666691067904_o.jpg
ORGANIZER;CN="Hansag%C3%A5rd Camping & Resort":MAILTO:info@hansagard-camping.se
END:VEVENT
BEGIN:VEVENT
DTSTART;TZID=Europe/Stockholm:20250715T130000
DTEND;TZID=Europe/Stockholm:20250715T150000
DTSTAMP:20260421T164257
CREATED:20250604T130046Z
LAST-MODIFIED:20250604T130109Z
UID:10000475-1752584400-1752591600@www.hansagard-camping.se
SUMMARY:Aktivitetsklubb
DESCRIPTION:Aktivitetsklubben\nAktiviteter för barn i alla åldrar med eller utan föräldrar.\nBrännboll\, lekar\, BINGO\, tipspromenad\, sandslottstävling osv. \nPlats: Samling lekrummet
URL:https://www.hansagard-camping.se/event/aktivitetsklubb-2-2/2025-07-15/
LOCATION:Hansagård Camping & Resort\, Hansagårdsvägen 11\, Falkenberg\, 311 43\, Sverige
CATEGORIES:På området
ATTACH;FMTTYPE=image/jpeg:https://www.hansagard-camping.se/wp-content/uploads/2019/01/minigolf-1.jpg
ORGANIZER;CN="Hansag%C3%A5rd Camping & Resort":MAILTO:info@hansagard-camping.se
END:VEVENT
BEGIN:VEVENT
DTSTART;TZID=Europe/Stockholm:20250715T190000
DTEND;TZID=Europe/Stockholm:20250715T210000
DTSTAMP:20260421T164257
CREATED:20210705T092215Z
LAST-MODIFIED:20250624T113800Z
UID:10000531-1752606000-1752613200@www.hansagard-camping.se
SUMMARY:Quiz
DESCRIPTION:Välkomna på Quiz på Hansas Bodega. Det blir god mat\, skön stämning och kluriga frågor!\nGlöm inte att boka bord om ni önskar äta på Bodegan under quizet. Det går bra att ta med sig egna stolar eller filt.
URL:https://www.hansagard-camping.se/event/quiz/2025-07-15/
LOCATION:Hansagård Camping & Resort\, Hansagårdsvägen 11\, Falkenberg\, 311 43\, Sverige
ATTACH;FMTTYPE=image/jpeg:https://www.hansagard-camping.se/wp-content/uploads/2019/01/ata.jpg
ORGANIZER;CN="Hansag%C3%A5rd Camping & Resort":MAILTO:info@hansagard-camping.se
END:VEVENT
BEGIN:VEVENT
DTSTART;TZID=Europe/Stockholm:20250716T090000
DTEND;TZID=Europe/Stockholm:20250716T100000
DTSTAMP:20260421T164257
CREATED:20250604T124934Z
LAST-MODIFIED:20250604T125105Z
UID:10000406-1752656400-1752660000@www.hansagard-camping.se
SUMMARY:Sommarlovsmorgon
DESCRIPTION:Den bästa starten på dagen! Vi samlas i lekrummet och ser på sommarlovsmorgon tillsammans.
URL:https://www.hansagard-camping.se/event/sommarlovsmorgon-2/2025-07-16/
LOCATION:Hansagård Camping & Resort\, Hansagårdsvägen 11\, Falkenberg\, 311 43\, Sverige
ATTACH;FMTTYPE=image/jpeg:https://www.hansagard-camping.se/wp-content/uploads/2019/11/trollerishow-2s.jpg
ORGANIZER;CN="Hansag%C3%A5rd Camping & Resort":MAILTO:info@hansagard-camping.se
END:VEVENT
BEGIN:VEVENT
DTSTART;TZID=Europe/Stockholm:20250716T100000
DTEND;TZID=Europe/Stockholm:20250716T120000
DTSTAMP:20260421T164257
CREATED:20250604T125329Z
LAST-MODIFIED:20250604T125408Z
UID:10000438-1752660000-1752667200@www.hansagard-camping.se
SUMMARY:Barnklubb
DESCRIPTION:Massor av skoj och bus för er mellan 4-12 år! Det är olika aktiviteter varje dag som exempelvis sandslottsbygge\, brännboll\, poängpromenad och pyssel. Alltid lugnt och tryggt tillsammans med vår erfarna barnklubbspersonal. Samling i lekrummet
URL:https://www.hansagard-camping.se/event/barnklubb-4-2/2025-07-16/
LOCATION:Hansagård Camping & Resort\, Hansagårdsvägen 11\, Falkenberg\, 311 43\, Sverige
CATEGORIES:På området
ATTACH;FMTTYPE=image/jpeg:https://www.hansagard-camping.se/wp-content/uploads/2019/05/36315733_2227163830643740_4355002666691067904_o.jpg
ORGANIZER;CN="Hansag%C3%A5rd Camping & Resort":MAILTO:info@hansagard-camping.se
END:VEVENT
END:VCALENDAR