BEGIN:VCALENDAR
VERSION:2.0
PRODID:-//Hansagård Camping &amp; Resort - ECPv6.15.20//NONSGML v1.0//EN
CALSCALE:GREGORIAN
METHOD:PUBLISH
X-ORIGINAL-URL:https://www.hansagard-camping.se
X-WR-CALDESC:Händelser för Hansagård Camping &amp; Resort
REFRESH-INTERVAL;VALUE=DURATION:PT1H
X-Robots-Tag:noindex
X-PUBLISHED-TTL:PT1H
BEGIN:VTIMEZONE
TZID:Europe/Stockholm
BEGIN:DAYLIGHT
TZOFFSETFROM:+0100
TZOFFSETTO:+0200
TZNAME:CEST
DTSTART:20240331T010000
END:DAYLIGHT
BEGIN:STANDARD
TZOFFSETFROM:+0200
TZOFFSETTO:+0100
TZNAME:CET
DTSTART:20241027T010000
END:STANDARD
BEGIN:DAYLIGHT
TZOFFSETFROM:+0100
TZOFFSETTO:+0200
TZNAME:CEST
DTSTART:20250330T010000
END:DAYLIGHT
BEGIN:STANDARD
TZOFFSETFROM:+0200
TZOFFSETTO:+0100
TZNAME:CET
DTSTART:20251026T010000
END:STANDARD
BEGIN:DAYLIGHT
TZOFFSETFROM:+0100
TZOFFSETTO:+0200
TZNAME:CEST
DTSTART:20260329T010000
END:DAYLIGHT
BEGIN:STANDARD
TZOFFSETFROM:+0200
TZOFFSETTO:+0100
TZNAME:CET
DTSTART:20261025T010000
END:STANDARD
END:VTIMEZONE
BEGIN:VEVENT
DTSTART;VALUE=DATE:20250718
DTEND;VALUE=DATE:20250720
DTSTAMP:20260421T151123
CREATED:20250604T121424Z
LAST-MODIFIED:20250604T121424Z
UID:10000389-1752796800-1752969599@www.hansagard-camping.se
SUMMARY:Wheels & Wings!
DESCRIPTION:Wheels & Wings – Falkenbergs mest fartfyllda helg! På Hansagård bor du mitt i upplevelsen. \nEn helg fylld med krom\, motorvrål\, nostalgi och glädje för både stora och små. \nUnder några dagar förvandlas Falkenberg till ett bilmecka där tusentals besökare samlas för att njuta av vackra veteranbilar\, cruising längs havet\, livemusik och en stämning du inte hittar någon annanstans.
URL:https://www.hansagard-camping.se/event/wheels-wings/
LOCATION:Hansagård Camping & Resort\, Hansagårdsvägen 11\, Falkenberg\, 311 43\, Sverige
CATEGORIES:Utanför området
ATTACH;FMTTYPE=image/jpeg:https://www.hansagard-camping.se/wp-content/uploads/2019/01/fbg_1.jpg
ORGANIZER;CN="Hansag%C3%A5rd Camping & Resort":MAILTO:info@hansagard-camping.se
END:VEVENT
BEGIN:VEVENT
DTSTART;TZID=Europe/Stockholm:20250719T190000
DTEND;TZID=Europe/Stockholm:20250719T200000
DTSTAMP:20260421T151123
CREATED:20250604T135404Z
LAST-MODIFIED:20250604T135429Z
UID:10000520-1752951600-1752955200@www.hansagard-camping.se
SUMMARY:Trollerishow!
DESCRIPTION:Var beredda att bevittna sagolik magi när trollkarlen Fredrik besöker oss i sommar! Med sitt fantastiska trolleri\, stor glimt i ögat och med ett tilltal till både små och stora människor får han oss att kikna av skratt. \n 
URL:https://www.hansagard-camping.se/event/sagolik-magi-2-2/2025-07-19/
LOCATION:Hansagård Camping & Resort\, Hansagårdsvägen 11\, Falkenberg\, 311 43\, Sverige
ATTACH;FMTTYPE=image/jpeg:https://www.hansagard-camping.se/wp-content/uploads/2019/11/trollerishow-21s.jpg
ORGANIZER;CN="Hansag%C3%A5rd Camping & Resort":MAILTO:info@hansagard-camping.se
END:VEVENT
END:VCALENDAR