BEGIN:VCALENDAR
VERSION:2.0
PRODID:-//Hansagård Camping &amp; Resort - ECPv6.15.20//NONSGML v1.0//EN
CALSCALE:GREGORIAN
METHOD:PUBLISH
X-ORIGINAL-URL:https://www.hansagard-camping.se
X-WR-CALDESC:Händelser för Hansagård Camping &amp; Resort
REFRESH-INTERVAL;VALUE=DURATION:PT1H
X-Robots-Tag:noindex
X-PUBLISHED-TTL:PT1H
BEGIN:VTIMEZONE
TZID:Europe/Stockholm
BEGIN:DAYLIGHT
TZOFFSETFROM:+0100
TZOFFSETTO:+0200
TZNAME:CEST
DTSTART:20240331T010000
END:DAYLIGHT
BEGIN:STANDARD
TZOFFSETFROM:+0200
TZOFFSETTO:+0100
TZNAME:CET
DTSTART:20241027T010000
END:STANDARD
BEGIN:DAYLIGHT
TZOFFSETFROM:+0100
TZOFFSETTO:+0200
TZNAME:CEST
DTSTART:20250330T010000
END:DAYLIGHT
BEGIN:STANDARD
TZOFFSETFROM:+0200
TZOFFSETTO:+0100
TZNAME:CET
DTSTART:20251026T010000
END:STANDARD
BEGIN:DAYLIGHT
TZOFFSETFROM:+0100
TZOFFSETTO:+0200
TZNAME:CEST
DTSTART:20260329T010000
END:DAYLIGHT
BEGIN:STANDARD
TZOFFSETFROM:+0200
TZOFFSETTO:+0100
TZNAME:CET
DTSTART:20261025T010000
END:STANDARD
END:VTIMEZONE
BEGIN:VEVENT
DTSTART;TZID=Europe/Stockholm:20250703T090000
DTEND;TZID=Europe/Stockholm:20250703T100000
DTSTAMP:20260421T133928
CREATED:20250604T124934Z
LAST-MODIFIED:20250604T125105Z
UID:10000397-1751533200-1751536800@www.hansagard-camping.se
SUMMARY:Sommarlovsmorgon
DESCRIPTION:Den bästa starten på dagen! Vi samlas i lekrummet och ser på sommarlovsmorgon tillsammans.
URL:https://www.hansagard-camping.se/event/sommarlovsmorgon-2/2025-07-03/
LOCATION:Hansagård Camping & Resort\, Hansagårdsvägen 11\, Falkenberg\, 311 43\, Sverige
ATTACH;FMTTYPE=image/jpeg:https://www.hansagard-camping.se/wp-content/uploads/2019/11/trollerishow-2s.jpg
ORGANIZER;CN="Hansag%C3%A5rd Camping & Resort":MAILTO:info@hansagard-camping.se
END:VEVENT
BEGIN:VEVENT
DTSTART;TZID=Europe/Stockholm:20250703T100000
DTEND;TZID=Europe/Stockholm:20250703T120000
DTSTAMP:20260421T133928
CREATED:20250604T125553Z
LAST-MODIFIED:20250604T125629Z
UID:10000451-1751536800-1751544000@www.hansagard-camping.se
SUMMARY:Barnklubb TEMA
DESCRIPTION:Massa skoj och bus – bara för oss mellan 4 – 12 år! Torsdagar: Temapyssel. Hela dagen har aktiviteterna ett speciellt tema. Kanske blir vi pirater som letar skatt? Eller detektiver som löser det stora Hansagård-mysteriet! Vilket det än blir börjar vi med att pyssla allt vi behöver inför dagen i lekrummet. Alltid med vår trygga och erfarna barnklubbspersonal.
URL:https://www.hansagard-camping.se/event/barnklubb-tema-2/2025-07-03/
LOCATION:Hansagård Camping & Resort\, Hansagårdsvägen 11\, Falkenberg\, 311 43\, Sverige
ATTACH;FMTTYPE=image/jpeg:https://www.hansagard-camping.se/wp-content/uploads/2019/11/tabatastrand-55s.jpg
ORGANIZER;CN="Hansag%C3%A5rd Camping & Resort":MAILTO:info@hansagard-camping.se
END:VEVENT
BEGIN:VEVENT
DTSTART;TZID=Europe/Stockholm:20250703T130000
DTEND;TZID=Europe/Stockholm:20250703T150000
DTSTAMP:20260421T133928
CREATED:20250604T125832Z
LAST-MODIFIED:20250604T125857Z
UID:10000457-1751547600-1751554800@www.hansagard-camping.se
SUMMARY:Aktivitetsklubb TEMA
DESCRIPTION:Barnklubbens temadag fortsätter med lekar och stoj. Vi kanske ger oss ut på skattjakt eller blir superhjältar som räddar hela Hansagård! Alltid tillsammans med vår trygga och erfarna barnklubbspersonal. Vi utgår från lekrummet.
URL:https://www.hansagard-camping.se/event/aktivitetsklubben-tema-2/2025-07-03/
LOCATION:Hansagård Camping & Resort\, Hansagårdsvägen 11\, Falkenberg\, 311 43\, Sverige
ATTACH;FMTTYPE=image/jpeg:https://www.hansagard-camping.se/wp-content/uploads/2019/01/studsmatta2.jpg
ORGANIZER;CN="Hansag%C3%A5rd Camping & Resort":MAILTO:info@hansagard-camping.se
END:VEVENT
BEGIN:VEVENT
DTSTART;TZID=Europe/Stockholm:20250703T170000
DTEND;TZID=Europe/Stockholm:20250703T190000
DTSTAMP:20260421T133928
CREATED:20250604T132026Z
LAST-MODIFIED:20250731T061304Z
UID:10000492-1751562000-1751569200@www.hansagard-camping.se
SUMMARY:Movie Night Kidz
DESCRIPTION:Torsdagsmys i lekrummet med barntillåten film! Vi bjuder på popcorn och saft. Alltid tillsammans med vår trygga barnklubbspersonal.
URL:https://www.hansagard-camping.se/event/movie-night-kidz-2-2/2025-07-03/
LOCATION:Hansagård Camping & Resort\, Hansagårdsvägen 11\, Falkenberg\, 311 43\, Sverige
ATTACH;FMTTYPE=image/png:https://www.hansagard-camping.se/wp-content/uploads/2019/05/Skärmavbild-2019-07-23-kl.-11.10.26.png
ORGANIZER;CN="Hansag%C3%A5rd Camping & Resort":MAILTO:info@hansagard-camping.se
END:VEVENT
BEGIN:VEVENT
DTSTART;TZID=Europe/Stockholm:20250703T190000
DTEND;TZID=Europe/Stockholm:20250703T210000
DTSTAMP:20260421T133928
CREATED:20240716T125704Z
LAST-MODIFIED:20250731T061349Z
UID:10000501-1751569200-1751576400@www.hansagard-camping.se
SUMMARY:Movie Night Family
DESCRIPTION:Mysig filmkväll för barn i alla åldrar i lekrummet! Vi bjuder på popcorn och saft. Alltid tillsammans med vår trygga barnklubbspersonal.
URL:https://www.hansagard-camping.se/event/movie-night-family-2/2025-07-03/
LOCATION:Hansagård Camping & Resort\, Hansagårdsvägen 11\, Falkenberg\, 311 43\, Sverige
ATTACH;FMTTYPE=image/jpeg:https://www.hansagard-camping.se/wp-content/uploads/2019/11/filmkvall-13s.jpg
ORGANIZER;CN="Hansag%C3%A5rd Camping & Resort":MAILTO:info@hansagard-camping.se
END:VEVENT
BEGIN:VEVENT
DTSTART;TZID=Europe/Stockholm:20250703T210000
DTEND;TZID=Europe/Stockholm:20250703T230000
DTSTAMP:20260421T133928
CREATED:20200616T115612Z
LAST-MODIFIED:20250731T061437Z
UID:10000508-1751576400-1751583600@www.hansagard-camping.se
SUMMARY:Movie Night Teens
DESCRIPTION:Kvällen avslutas med filmkväll i lekrummet för våra tonåringar med en åldersgräns på 11 år! Vi bjuder på popcorn och saft. Alltid tillsammans med vår trygga barnklubbspersonal.
URL:https://www.hansagard-camping.se/event/movie-night-teens/2025-07-03/
LOCATION:Hansagård Camping & Resort\, Hansagårdsvägen 11\, Falkenberg\, 311 43\, Sverige
ATTACH;FMTTYPE=image/jpeg:https://www.hansagard-camping.se/wp-content/uploads/2019/11/filmkvall-8s.jpg
ORGANIZER;CN="Hansag%C3%A5rd Camping & Resort":MAILTO:info@hansagard-camping.se
END:VEVENT
END:VCALENDAR