BEGIN:VCALENDAR
VERSION:2.0
PRODID:-//Hansagård Camping &amp; Resort - ECPv6.15.20//NONSGML v1.0//EN
CALSCALE:GREGORIAN
METHOD:PUBLISH
X-ORIGINAL-URL:https://www.hansagard-camping.se
X-WR-CALDESC:Händelser för Hansagård Camping &amp; Resort
REFRESH-INTERVAL;VALUE=DURATION:PT1H
X-Robots-Tag:noindex
X-PUBLISHED-TTL:PT1H
BEGIN:VTIMEZONE
TZID:Europe/Stockholm
BEGIN:DAYLIGHT
TZOFFSETFROM:+0100
TZOFFSETTO:+0200
TZNAME:CEST
DTSTART:20240331T010000
END:DAYLIGHT
BEGIN:STANDARD
TZOFFSETFROM:+0200
TZOFFSETTO:+0100
TZNAME:CET
DTSTART:20241027T010000
END:STANDARD
BEGIN:DAYLIGHT
TZOFFSETFROM:+0100
TZOFFSETTO:+0200
TZNAME:CEST
DTSTART:20250330T010000
END:DAYLIGHT
BEGIN:STANDARD
TZOFFSETFROM:+0200
TZOFFSETTO:+0100
TZNAME:CET
DTSTART:20251026T010000
END:STANDARD
BEGIN:DAYLIGHT
TZOFFSETFROM:+0100
TZOFFSETTO:+0200
TZNAME:CEST
DTSTART:20260329T010000
END:DAYLIGHT
BEGIN:STANDARD
TZOFFSETFROM:+0200
TZOFFSETTO:+0100
TZNAME:CET
DTSTART:20261025T010000
END:STANDARD
END:VTIMEZONE
BEGIN:VEVENT
DTSTART;TZID=Europe/Stockholm:20250620T090000
DTEND;TZID=Europe/Stockholm:20250620T100000
DTSTAMP:20260421T151123
CREATED:20220510T082000Z
LAST-MODIFIED:20250604T120819Z
UID:10000365-1750410000-1750413600@www.hansagard-camping.se
SUMMARY:Klä midsommarstången
DESCRIPTION:Hjälp oss att smycka midsommarstången. Vi ses i vandrarhemmets trädgård där alla barn får hjälpa oss att bombardera vår midsommarstång med vackra blommor innan vi reser den tillsammans. \nFör boende gäster!
URL:https://www.hansagard-camping.se/event/kla-midsommarstangen/
ATTACH;FMTTYPE=image/jpeg:https://www.hansagard-camping.se/wp-content/uploads/2019/01/midsommarkrans.jpg
END:VEVENT
BEGIN:VEVENT
DTSTART;TZID=Europe/Stockholm:20250620T100000
DTEND;TZID=Europe/Stockholm:20250620T120000
DTSTAMP:20260421T151123
CREATED:20220510T083256Z
LAST-MODIFIED:20250604T120639Z
UID:10000366-1750413600-1750420800@www.hansagard-camping.se
SUMMARY:Barnklubb Midsommar
DESCRIPTION:Sommarpyssla med midsommartema tillsammans med våra erfarna aktivitetsledare. Om vädret tillåter ses vi på uteserveringen till Hansas Bodega. Drop in under förmiddagen.
URL:https://www.hansagard-camping.se/event/barnklubb-midsommar/
LOCATION:Hansagård Camping & Resort\, Hansagårdsvägen 11\, Falkenberg\, 311 43\, Sverige
ATTACH;FMTTYPE=image/jpeg:https://www.hansagard-camping.se/wp-content/uploads/2019/01/midsommarkrans.jpg
ORGANIZER;CN="Hansag%C3%A5rd Camping & Resort":MAILTO:info@hansagard-camping.se
END:VEVENT
BEGIN:VEVENT
DTSTART;TZID=Europe/Stockholm:20250620T120000
DTEND;TZID=Europe/Stockholm:20250620T140000
DTSTAMP:20260421T151123
CREATED:20210621T085524Z
LAST-MODIFIED:20250604T120916Z
UID:10000289-1750420800-1750428000@www.hansagard-camping.se
SUMMARY:Midsommarfirande
DESCRIPTION:Fira midsommar med oss!\nMidsommarfest med dans. I vandrarhemmets trädgård ses vi för vårt traditionsenliga midsommarfirande. Vi bjuder på glass till alla glassugna barn och grillar korv till alla som är hungriga. Barnen kan hoppa i hoppborgar innan vi samlas för dans och sång runt stången. \nFör boende gäster
URL:https://www.hansagard-camping.se/event/fira-midsommar/
LOCATION:Hansagård Camping & Resort\, Hansagårdsvägen 11\, Falkenberg\, 311 43\, Sverige
CATEGORIES:På området
ATTACH;FMTTYPE=image/jpeg:https://www.hansagard-camping.se/wp-content/uploads/2019/01/bild-5-3-1.jpg
ORGANIZER;CN="Hansag%C3%A5rd Camping & Resort":MAILTO:info@hansagard-camping.se
END:VEVENT
END:VCALENDAR